BEGIN:VCALENDAR
VERSION:2.0
PRODID:-//Die Kathreiner - ECPv6.15.20//NONSGML v1.0//EN
CALSCALE:GREGORIAN
METHOD:PUBLISH
X-ORIGINAL-URL:https://www.die-kathreiner.de
X-WR-CALDESC:Veranstaltungen für Die Kathreiner
REFRESH-INTERVAL;VALUE=DURATION:PT1H
X-Robots-Tag:noindex
X-PUBLISHED-TTL:PT1H
BEGIN:VTIMEZONE
TZID:Europe/Berlin
BEGIN:DAYLIGHT
TZOFFSETFROM:+0100
TZOFFSETTO:+0200
TZNAME:CEST
DTSTART:20220327T010000
END:DAYLIGHT
BEGIN:STANDARD
TZOFFSETFROM:+0200
TZOFFSETTO:+0100
TZNAME:CET
DTSTART:20221030T010000
END:STANDARD
BEGIN:DAYLIGHT
TZOFFSETFROM:+0100
TZOFFSETTO:+0200
TZNAME:CEST
DTSTART:20230326T010000
END:DAYLIGHT
BEGIN:STANDARD
TZOFFSETFROM:+0200
TZOFFSETTO:+0100
TZNAME:CET
DTSTART:20231029T010000
END:STANDARD
BEGIN:DAYLIGHT
TZOFFSETFROM:+0100
TZOFFSETTO:+0200
TZNAME:CEST
DTSTART:20240331T010000
END:DAYLIGHT
BEGIN:STANDARD
TZOFFSETFROM:+0200
TZOFFSETTO:+0100
TZNAME:CET
DTSTART:20241027T010000
END:STANDARD
BEGIN:DAYLIGHT
TZOFFSETFROM:+0100
TZOFFSETTO:+0200
TZNAME:CEST
DTSTART:20250330T010000
END:DAYLIGHT
BEGIN:STANDARD
TZOFFSETFROM:+0200
TZOFFSETTO:+0100
TZNAME:CET
DTSTART:20251026T010000
END:STANDARD
BEGIN:DAYLIGHT
TZOFFSETFROM:+0100
TZOFFSETTO:+0200
TZNAME:CEST
DTSTART:20260329T010000
END:DAYLIGHT
BEGIN:STANDARD
TZOFFSETFROM:+0200
TZOFFSETTO:+0100
TZNAME:CET
DTSTART:20261025T010000
END:STANDARD
BEGIN:DAYLIGHT
TZOFFSETFROM:+0100
TZOFFSETTO:+0200
TZNAME:CEST
DTSTART:20270328T010000
END:DAYLIGHT
BEGIN:STANDARD
TZOFFSETFROM:+0200
TZOFFSETTO:+0100
TZNAME:CET
DTSTART:20271031T010000
END:STANDARD
END:VTIMEZONE
BEGIN:VEVENT
DTSTART;TZID=Europe/Berlin:20260417T190000
DTEND;TZID=Europe/Berlin:20260417T190000
DTSTAMP:20260423T114702
CREATED:20260226T095453Z
LAST-MODIFIED:20260226T095631Z
UID:1560-1776452400-1776452400@www.die-kathreiner.de
SUMMARY:Spek-Tanz'l - Das Musikantentreffen
DESCRIPTION:
URL:https://www.die-kathreiner.de/termin/oberkrainernachmittag-2/
LOCATION:Postsaal\, Schäftlarn-Ebenhausen (DE)
END:VEVENT
BEGIN:VEVENT
DTSTART;TZID=Europe/Berlin:20260406T130000
DTEND;TZID=Europe/Berlin:20260406T130000
DTSTAMP:20260423T114702
CREATED:20260204T101754Z
LAST-MODIFIED:20260216T122008Z
UID:1538-1775480400-1775480400@www.die-kathreiner.de
SUMMARY:Oberkrainernachmittag
DESCRIPTION:
URL:https://www.heisnhof-appartements.at/restaurants-restaurant-reith-im-alpbachtal.html#new_tab
LOCATION:Liftcafé Heisn\, Reith im Alpbachtal (AT)
END:VEVENT
BEGIN:VEVENT
DTSTART;TZID=Europe/Berlin:20251117T193000
DTEND;TZID=Europe/Berlin:20251117T193000
DTSTAMP:20260423T114702
CREATED:20251111T113657Z
LAST-MODIFIED:20251111T113657Z
UID:1534-1763407800-1763407800@www.die-kathreiner.de
SUMMARY:Volksmusik & Weingenuss
DESCRIPTION:
URL:https://www.die-kathreiner.de/termin/volksmusik-weingenuss/
LOCATION:Weingut Schmölzer\, Sankt Andrä-Höch\, Austria
END:VEVENT
BEGIN:VEVENT
DTSTART;TZID=Europe/Berlin:20250928T130000
DTEND;TZID=Europe/Berlin:20250928T150000
DTSTAMP:20260423T114702
CREATED:20250305T105122Z
LAST-MODIFIED:20250305T105122Z
UID:1529-1759064400-1759071600@www.die-kathreiner.de
SUMMARY:Konzert im Klammhaus
DESCRIPTION:
URL:https://www.die-kathreiner.de/termin/konzert-im-klammhaus-3/
LOCATION:Klammhaus\, Garmisch (DE)\, 82467
END:VEVENT
BEGIN:VEVENT
DTSTART;TZID=Europe/Berlin:20250927T150000
DTEND;TZID=Europe/Berlin:20250927T170000
DTSTAMP:20260423T114702
CREATED:20250305T104648Z
LAST-MODIFIED:20250305T104720Z
UID:1521-1758985200-1758992400@www.die-kathreiner.de
SUMMARY:Musik im Park
DESCRIPTION:
URL:https://www.die-kathreiner.de/termin/musik-im-park-4/
LOCATION:Kurpark\, Garmisch-Partenkirchen (DE)
END:VEVENT
BEGIN:VEVENT
DTSTART;TZID=Europe/Berlin:20250914T130000
DTEND;TZID=Europe/Berlin:20250914T170000
DTSTAMP:20260423T114702
CREATED:20250305T103443Z
LAST-MODIFIED:20250305T103443Z
UID:1514-1757854800-1757869200@www.die-kathreiner.de
SUMMARY:Gasthof Winkelmoos
DESCRIPTION:
URL:https://www.die-kathreiner.de/termin/gasthof-winkelmoos/
LOCATION:Fieberbrunn\, Austria
END:VEVENT
BEGIN:VEVENT
DTSTART;TZID=Europe/Berlin:20250913T193000
DTEND;TZID=Europe/Berlin:20250913T193000
DTSTAMP:20260423T114702
CREATED:20250305T103147Z
LAST-MODIFIED:20250305T103158Z
UID:1511-1757791800-1757791800@www.die-kathreiner.de
SUMMARY:Oberkrainer Abend
DESCRIPTION:
URL:https://www.die-kathreiner.de/termin/oberkrainer-abend/
LOCATION:Gasthof Schwaiger\, St. Kathrein am Offenegg\, Austria
END:VEVENT
BEGIN:VEVENT
DTSTART;TZID=Europe/Berlin:20250912T193000
DTEND;TZID=Europe/Berlin:20250912T193000
DTSTAMP:20260423T114702
CREATED:20241030T083204Z
LAST-MODIFIED:20241030T083223Z
UID:1490-1757705400-1757705400@www.die-kathreiner.de
SUMMARY:Landcafe Kern
DESCRIPTION:
URL:https://www.die-kathreiner.de/termin/landcafe-kern/
LOCATION:Bärnbach (Steiermark)\, Austria
END:VEVENT
BEGIN:VEVENT
DTSTART;TZID=Europe/Berlin:20250911T190000
DTEND;TZID=Europe/Berlin:20250911T190000
DTSTAMP:20260423T114702
CREATED:20241030T082822Z
LAST-MODIFIED:20241030T082848Z
UID:1487-1757617200-1757617200@www.die-kathreiner.de
SUMMARY:Motorikpark
DESCRIPTION:
URL:https://www.die-kathreiner.de/termin/motorikpark/
LOCATION:Gamlitz (Steiermark)\, Austria
END:VEVENT
BEGIN:VEVENT
DTSTART;TZID=Europe/Berlin:20250816T190000
DTEND;TZID=Europe/Berlin:20250816T190000
DTSTAMP:20260423T114702
CREATED:20250305T102920Z
LAST-MODIFIED:20250305T102952Z
UID:1505-1755370800-1755370800@www.die-kathreiner.de
SUMMARY:Festwoche Partenkirchen
DESCRIPTION:mit dabei: Die Kathreiner\,  Alpenoberkrainer\,  Oberkrainer Polka Mädels
URL:https://www.die-kathreiner.de/termin/festwoche-partenkirchen/
LOCATION:Bierzelt am Schützenhaus\, Partenkirchen\, Germany
END:VEVENT
BEGIN:VEVENT
DTSTART;TZID=Europe/Berlin:20250727T130000
DTEND;TZID=Europe/Berlin:20250727T150000
DTSTAMP:20260423T114702
CREATED:20250305T105047Z
LAST-MODIFIED:20250305T105047Z
UID:1527-1753621200-1753628400@www.die-kathreiner.de
SUMMARY:Konzert im Klammhaus
DESCRIPTION:
URL:https://www.die-kathreiner.de/termin/konzert-im-klammhaus-2/
LOCATION:Klammhaus\, Garmisch (DE)\, 82467
END:VEVENT
BEGIN:VEVENT
DTSTART;TZID=Europe/Berlin:20250726T150000
DTEND;TZID=Europe/Berlin:20250726T170000
DTSTAMP:20260423T114702
CREATED:20250305T104941Z
LAST-MODIFIED:20250305T104941Z
UID:1525-1753542000-1753549200@www.die-kathreiner.de
SUMMARY:Musik im Park
DESCRIPTION:
URL:https://www.die-kathreiner.de/termin/musik-im-park-6/
LOCATION:Kurpark\, Garmisch-Partenkirchen (DE)
END:VEVENT
BEGIN:VEVENT
DTSTART;TZID=Europe/Berlin:20250725T190000
DTEND;TZID=Europe/Berlin:20250725T190000
DTSTAMP:20260423T114702
CREATED:20240305T101144Z
LAST-MODIFIED:20241030T082542Z
UID:1449-1753470000-1753470000@www.die-kathreiner.de
SUMMARY:Musikfest Kössen
DESCRIPTION:
URL:https://www.die-kathreiner.de/termin/oberkrainer-festival-koessen/
LOCATION:Festzelt\, Kössen\, Austria
END:VEVENT
BEGIN:VEVENT
DTSTART;TZID=Europe/Berlin:20250511T130000
DTEND;TZID=Europe/Berlin:20250511T150000
DTSTAMP:20260423T114702
CREATED:20250305T103936Z
LAST-MODIFIED:20250305T104454Z
UID:1517-1746968400-1746975600@www.die-kathreiner.de
SUMMARY:Konzert im Klammhaus
DESCRIPTION:
URL:https://www.die-kathreiner.de/termin/musik-im-park-3/
LOCATION:Klammhaus\, Garmisch (DE)\, 82467
END:VEVENT
BEGIN:VEVENT
DTSTART;TZID=Europe/Berlin:20250510T150000
DTEND;TZID=Europe/Berlin:20250510T170000
DTSTAMP:20260423T114702
CREATED:20250305T104910Z
LAST-MODIFIED:20250305T104910Z
UID:1523-1746889200-1746896400@www.die-kathreiner.de
SUMMARY:Musik im Park
DESCRIPTION:
URL:https://www.die-kathreiner.de/termin/musik-im-park-5/
LOCATION:Kurpark\, Garmisch-Partenkirchen (DE)
END:VEVENT
BEGIN:VEVENT
DTSTART;TZID=Europe/Berlin:20250405T190000
DTEND;TZID=Europe/Berlin:20250405T190000
DTSTAMP:20260423T114702
CREATED:20241030T082331Z
LAST-MODIFIED:20241030T082431Z
UID:1483-1743879600-1743879600@www.die-kathreiner.de
SUMMARY:Puntigamer Musikanten Ski WM
DESCRIPTION:
URL:https://www.die-kathreiner.de/termin/puntigamer-musikanten-ski-wm-2/
LOCATION:Festzelt\, Schladming\, Austria
END:VEVENT
BEGIN:VEVENT
DTSTART;TZID=Europe/Berlin:20250322T193000
DTEND;TZID=Europe/Berlin:20250322T193000
DTSTAMP:20260423T114702
CREATED:20250121T095557Z
LAST-MODIFIED:20250121T095557Z
UID:1502-1742671800-1742671800@www.die-kathreiner.de
SUMMARY:Musikanten Festival
DESCRIPTION:
URL:https://www.die-kathreiner.de/termin/musikanten-festival/
LOCATION:Kirchberg Halle\, Kirchberg an der Pielach\, 3204\, Germany
END:VEVENT
BEGIN:VEVENT
DTSTART;TZID=Europe/Berlin:20250212T210000
DTEND;TZID=Europe/Berlin:20250212T210000
DTSTAMP:20260423T114702
CREATED:20241030T080856Z
LAST-MODIFIED:20241030T080856Z
UID:1475-1739394000-1739394000@www.die-kathreiner.de
SUMMARY:Moonlight Bar
DESCRIPTION:
URL:https://www.die-kathreiner.de/termin/moonlight-bar/
LOCATION:Moonlight Bar\, Söll (Tirol)\, Austria
END:VEVENT
BEGIN:VEVENT
DTSTART;TZID=Europe/Berlin:20241228T190000
DTEND;TZID=Europe/Berlin:20241228T210000
DTSTAMP:20260423T114702
CREATED:20241030T083438Z
LAST-MODIFIED:20241031T174023Z
UID:1493-1735412400-1735419600@www.die-kathreiner.de
SUMMARY:Winter im Park
DESCRIPTION:
URL:https://www.die-kathreiner.de/termin/winter-im-park/
LOCATION:Kurpark\, Garmisch-Partenkirchen (DE)
END:VEVENT
BEGIN:VEVENT
DTSTART;TZID=Europe/Berlin:20241004T200000
DTEND;TZID=Europe/Berlin:20241004T200000
DTSTAMP:20260423T114702
CREATED:20240611T110012Z
LAST-MODIFIED:20240611T111247Z
UID:1455-1728072000-1728072000@www.die-kathreiner.de
SUMMARY:Großes Musikantentreffen
DESCRIPTION:
URL:https://www.die-kathreiner.de/termin/musikantentreff/
LOCATION:Grenzlandhalle\, Kössen DE
END:VEVENT
BEGIN:VEVENT
DTSTART;TZID=Europe/Berlin:20240810T150000
DTEND;TZID=Europe/Berlin:20240810T170000
DTSTAMP:20260423T114702
CREATED:20240720T115529Z
LAST-MODIFIED:20240720T115529Z
UID:1465-1723302000-1723309200@www.die-kathreiner.de
SUMMARY:Gasthaus zur Schranne
DESCRIPTION:
URL:https://www.die-kathreiner.de/termin/gasthaus-zur-schranne/
LOCATION:Griesstraße 4\, Garmisch-Partenkirchen DE
END:VEVENT
BEGIN:VEVENT
DTSTART;TZID=Europe/Berlin:20240714T130000
DTEND;TZID=Europe/Berlin:20240714T150000
DTSTAMP:20260423T114702
CREATED:20240305T100700Z
LAST-MODIFIED:20240305T100700Z
UID:1444-1720962000-1720969200@www.die-kathreiner.de
SUMMARY:Konzert im Klammhaus
DESCRIPTION:
URL:https://www.die-kathreiner.de/termin/konzert-im-klammhaus/
LOCATION:Klammhaus\, Garmisch (DE)\, 82467
END:VEVENT
BEGIN:VEVENT
DTSTART;TZID=Europe/Berlin:20240713T150000
DTEND;TZID=Europe/Berlin:20240713T170000
DTSTAMP:20260423T114702
CREATED:20240305T100543Z
LAST-MODIFIED:20240305T100543Z
UID:1442-1720882800-1720890000@www.die-kathreiner.de
SUMMARY:Musik im Park
DESCRIPTION:
URL:https://www.die-kathreiner.de/termin/musik-im-park-2/
LOCATION:Kurpark\, Garmisch-Partenkirchen (DE)
END:VEVENT
BEGIN:VEVENT
DTSTART;TZID=Europe/Berlin:20240623T130000
DTEND;TZID=Europe/Berlin:20240623T150000
DTSTAMP:20260423T114702
CREATED:20240305T100425Z
LAST-MODIFIED:20240611T110306Z
UID:1440-1719147600-1719154800@www.die-kathreiner.de
SUMMARY:Konzert im Klammhaus
DESCRIPTION:
URL:https://www.die-kathreiner.de/termin/konzert-klammhaus-2/
LOCATION:Klammhaus\, Garmisch (DE)\, 82467
END:VEVENT
BEGIN:VEVENT
DTSTART;TZID=Europe/Berlin:20240622T150000
DTEND;TZID=Europe/Berlin:20240622T170000
DTSTAMP:20260423T114702
CREATED:20240305T100253Z
LAST-MODIFIED:20240305T100253Z
UID:1438-1719068400-1719075600@www.die-kathreiner.de
SUMMARY:Musik im Park
DESCRIPTION:
URL:https://www.die-kathreiner.de/termin/musik-im-park/
LOCATION:Kurpark\, Garmisch-Partenkirchen (DE)
END:VEVENT
BEGIN:VEVENT
DTSTART;TZID=Europe/Berlin:20240512T150000
DTEND;TZID=Europe/Berlin:20240512T170000
DTSTAMP:20260423T114702
CREATED:20240305T100024Z
LAST-MODIFIED:20240305T100024Z
UID:1436-1715526000-1715533200@www.die-kathreiner.de
SUMMARY:Musik imPark
DESCRIPTION:
URL:https://www.die-kathreiner.de/termin/musik-impark/
LOCATION:Kurpark\, Garmisch-Partenkirchen (DE)
END:VEVENT
BEGIN:VEVENT
DTSTART;TZID=Europe/Berlin:20240511T130000
DTEND;TZID=Europe/Berlin:20240511T150000
DTSTAMP:20260423T114702
CREATED:20240305T080427Z
LAST-MODIFIED:20240305T080427Z
UID:1434-1715432400-1715439600@www.die-kathreiner.de
SUMMARY:Konzert Klammhaus
DESCRIPTION:
URL:https://www.die-kathreiner.de/termin/konzert-klammhaus/
LOCATION:Klammhaus\, Garmisch (DE)\, 82467
END:VEVENT
BEGIN:VEVENT
DTSTART;TZID=Europe/Berlin:20231026T130000
DTEND;TZID=Europe/Berlin:20231026T150000
DTSTAMP:20260423T114702
CREATED:20230925T192714Z
LAST-MODIFIED:20230925T192936Z
UID:1285-1698325200-1698332400@www.die-kathreiner.de
SUMMARY:Musikantentreffen
DESCRIPTION:
URL:https://www.die-kathreiner.de/termin/musikantentreffen/
LOCATION:Braugasthof Sigl\, Dorfplatz 1\, A-5162 Obertrum\, Salzburg\, 5162\, Austria
END:VEVENT
BEGIN:VEVENT
DTSTART;TZID=Europe/Berlin:20231001T130000
DTEND;TZID=Europe/Berlin:20231001T150000
DTSTAMP:20260423T114702
CREATED:20230503T191025Z
LAST-MODIFIED:20230503T191139Z
UID:1267-1696165200-1696172400@www.die-kathreiner.de
SUMMARY:Konzert in der Partnachklamm
DESCRIPTION:
URL:https://www.die-kathreiner.de/termin/konzert-in-der-partnachklamm-5/
LOCATION:Klammhaus\, Garmisch (DE)\, 82467
END:VEVENT
BEGIN:VEVENT
DTSTART;TZID=Europe/Berlin:20230930T103000
DTEND;TZID=Europe/Berlin:20230930T120000
DTSTAMP:20260423T114702
CREATED:20230503T190449Z
LAST-MODIFIED:20230920T195348Z
UID:1261-1696069800-1696075200@www.die-kathreiner.de
SUMMARY:Musik im Park 2023
DESCRIPTION:
URL:https://www.die-kathreiner.de/termin/musik-im-park-2023-5/
LOCATION:Kurpark\, Garmisch-Partenkirchen (DE)
END:VEVENT
END:VCALENDAR